BEGIN:VCALENDAR
VERSION:2.0
PRODID:http://www.kufer.de/kuferweb / DE
METHOD:PUBLISH
CALSCALE:GREGORIAN
X-WR-TIMEZONE:Europe/Berlin
BEGIN:VTIMEZONE
TZID:Europe/Berlin
X-LIC-LOCATION:Europe/Berlin
BEGIN:DAYLIGHT
TZOFFSETFROM:+0100
TZOFFSETTO:+0200
TZNAME:CEST
DTSTART;TZID=Europe/Berlin:19700329T020000
RRULE:FREQ=YEARLY;INTERVAL=1;BYDAY=-1SU;BYMONTH=3
END:DAYLIGHT
BEGIN:STANDARD
TZOFFSETFROM:+0200
TZOFFSETTO:+0100
TZNAME:CET
DTSTART;TZID=Europe/Berlin:19701025T030000
RRULE:FREQ=YEARLY;INTERVAL=1;BYDAY=-1SU;BYMONTH=10
END:STANDARD
END:VTIMEZONE
BEGIN:VEVENT
DTSTAMP:20260421T124153
DTSTART;TZID=Europe/Berlin:20260526T090000
DTEND;TZID=Europe/Berlin:20260526T110000
UID:G009 0119-20260526T090000@FBSELMSHORN
SUMMARY:Hebammencafé Für alle werdenden Eltern und Eltern mit Kindern bis 2 Jahre (G009 0119) 
LOCATION:FBS, Raum 1, Lornsenstr. 54 a, 25335 Elmshorn
END:VEVENT
END:VCALENDAR