BEGIN:VCALENDAR
VERSION:2.0
PRODID:http://www.kufer.de/kuferweb / DE
METHOD:PUBLISH
CALSCALE:GREGORIAN
X-WR-TIMEZONE:Europe/Berlin
BEGIN:VTIMEZONE
TZID:Europe/Berlin
X-LIC-LOCATION:Europe/Berlin
BEGIN:DAYLIGHT
TZOFFSETFROM:+0100
TZOFFSETTO:+0200
TZNAME:CEST
DTSTART;TZID=Europe/Berlin:19700329T020000
RRULE:FREQ=YEARLY;INTERVAL=1;BYDAY=-1SU;BYMONTH=3
END:DAYLIGHT
BEGIN:STANDARD
TZOFFSETFROM:+0200
TZOFFSETTO:+0100
TZNAME:CET
DTSTART;TZID=Europe/Berlin:19701025T030000
RRULE:FREQ=YEARLY;INTERVAL=1;BYDAY=-1SU;BYMONTH=10
END:STANDARD
END:VTIMEZONE
BEGIN:VEVENT
DTSTAMP:20260420T132341
DTSTART;TZID=Europe/Berlin:20260505T150000
DTEND;TZID=Europe/Berlin:20260505T154500
UID:G028 0202-20260505T150000@FBSELMSHORN
SUMMARY:Tanz-Zwerge Für Tanzbegeisterte von 2 bis 3 Jahren (G028 0202) 
LOCATION:Vie Vitale, Koppeldamm 1, Elmshorn, , 
END:VEVENT
BEGIN:VEVENT
DTSTAMP:20260420T132341
DTSTART;TZID=Europe/Berlin:20260512T150000
DTEND;TZID=Europe/Berlin:20260512T154500
UID:G028 0202-20260512T150000@FBSELMSHORN
SUMMARY:Tanz-Zwerge Für Tanzbegeisterte von 2 bis 3 Jahren (G028 0202) 
LOCATION:Vie Vitale, Koppeldamm 1, Elmshorn, , 
END:VEVENT
BEGIN:VEVENT
DTSTAMP:20260420T132341
DTSTART;TZID=Europe/Berlin:20260519T150000
DTEND;TZID=Europe/Berlin:20260519T154500
UID:G028 0202-20260519T150000@FBSELMSHORN
SUMMARY:Tanz-Zwerge Für Tanzbegeisterte von 2 bis 3 Jahren (G028 0202) 
LOCATION:Vie Vitale, Koppeldamm 1, Elmshorn, , 
END:VEVENT
BEGIN:VEVENT
DTSTAMP:20260420T132341
DTSTART;TZID=Europe/Berlin:20260526T150000
DTEND;TZID=Europe/Berlin:20260526T154500
UID:G028 0202-20260526T150000@FBSELMSHORN
SUMMARY:Tanz-Zwerge Für Tanzbegeisterte von 2 bis 3 Jahren (G028 0202) 
LOCATION:Vie Vitale, Koppeldamm 1, Elmshorn, , 
END:VEVENT
BEGIN:VEVENT
DTSTAMP:20260420T132341
DTSTART;TZID=Europe/Berlin:20260602T150000
DTEND;TZID=Europe/Berlin:20260602T154500
UID:G028 0202-20260602T150000@FBSELMSHORN
SUMMARY:Tanz-Zwerge Für Tanzbegeisterte von 2 bis 3 Jahren (G028 0202) 
LOCATION:Vie Vitale, Koppeldamm 1, Elmshorn, , 
END:VEVENT
BEGIN:VEVENT
DTSTAMP:20260420T132341
DTSTART;TZID=Europe/Berlin:20260609T150000
DTEND;TZID=Europe/Berlin:20260609T154500
UID:G028 0202-20260609T150000@FBSELMSHORN
SUMMARY:Tanz-Zwerge Für Tanzbegeisterte von 2 bis 3 Jahren (G028 0202) 
LOCATION:Vie Vitale, Koppeldamm 1, Elmshorn, , 
END:VEVENT
BEGIN:VEVENT
DTSTAMP:20260420T132341
DTSTART;TZID=Europe/Berlin:20260616T150000
DTEND;TZID=Europe/Berlin:20260616T154500
UID:G028 0202-20260616T150000@FBSELMSHORN
SUMMARY:Tanz-Zwerge Für Tanzbegeisterte von 2 bis 3 Jahren (G028 0202) 
LOCATION:Vie Vitale, Koppeldamm 1, Elmshorn, , 
END:VEVENT
BEGIN:VEVENT
DTSTAMP:20260420T132341
DTSTART;TZID=Europe/Berlin:20260623T150000
DTEND;TZID=Europe/Berlin:20260623T154500
UID:G028 0202-20260623T150000@FBSELMSHORN
SUMMARY:Tanz-Zwerge Für Tanzbegeisterte von 2 bis 3 Jahren (G028 0202) 
LOCATION:Vie Vitale, Koppeldamm 1, Elmshorn, , 
END:VEVENT
END:VCALENDAR