BEGIN:VCALENDAR
VERSION:2.0
PRODID:http://www.kufer.de/kuferweb / DE
METHOD:PUBLISH
CALSCALE:GREGORIAN
X-WR-TIMEZONE:Europe/Berlin
BEGIN:VTIMEZONE
TZID:Europe/Berlin
X-LIC-LOCATION:Europe/Berlin
BEGIN:DAYLIGHT
TZOFFSETFROM:+0100
TZOFFSETTO:+0200
TZNAME:CEST
DTSTART;TZID=Europe/Berlin:19700329T020000
RRULE:FREQ=YEARLY;INTERVAL=1;BYDAY=-1SU;BYMONTH=3
END:DAYLIGHT
BEGIN:STANDARD
TZOFFSETFROM:+0200
TZOFFSETTO:+0100
TZNAME:CET
DTSTART;TZID=Europe/Berlin:19701025T030000
RRULE:FREQ=YEARLY;INTERVAL=1;BYDAY=-1SU;BYMONTH=10
END:STANDARD
END:VTIMEZONE
BEGIN:VEVENT
DTSTAMP:20260420T142835
DTSTART;TZID=Europe/Berlin:20260317T153000
DTEND;TZID=Europe/Berlin:20260317T164500
UID:G103 1102-20260317T153000@FBSELMSHORN
SUMMARY:*Wirbelsäulengymnastik am Dienstag Für einen stabilen und beweglichen Rücken (G103 1102) 
LOCATION:Gymnastikhalle Boje-Steffen-Gem.-Schule, Koppeldamm 50, Elmshorn, Koppeldamm 50, 25335 Elmshorn
END:VEVENT
BEGIN:VEVENT
DTSTAMP:20260420T142835
DTSTART;TZID=Europe/Berlin:20260324T153000
DTEND;TZID=Europe/Berlin:20260324T164500
UID:G103 1102-20260324T153000@FBSELMSHORN
SUMMARY:*Wirbelsäulengymnastik am Dienstag Für einen stabilen und beweglichen Rücken (G103 1102) 
LOCATION:Gymnastikhalle Boje-Steffen-Gem.-Schule, Koppeldamm 50, Elmshorn, Koppeldamm 50, 25335 Elmshorn
END:VEVENT
BEGIN:VEVENT
DTSTAMP:20260420T142835
DTSTART;TZID=Europe/Berlin:20260414T153000
DTEND;TZID=Europe/Berlin:20260414T164500
UID:G103 1102-20260414T153000@FBSELMSHORN
SUMMARY:*Wirbelsäulengymnastik am Dienstag Für einen stabilen und beweglichen Rücken (G103 1102) 
LOCATION:Gymnastikhalle Boje-Steffen-Gem.-Schule, Koppeldamm 50, Elmshorn, Koppeldamm 50, 25335 Elmshorn
END:VEVENT
BEGIN:VEVENT
DTSTAMP:20260420T142835
DTSTART;TZID=Europe/Berlin:20260421T153000
DTEND;TZID=Europe/Berlin:20260421T164500
UID:G103 1102-20260421T153000@FBSELMSHORN
SUMMARY:*Wirbelsäulengymnastik am Dienstag Für einen stabilen und beweglichen Rücken (G103 1102) 
LOCATION:Gymnastikhalle Boje-Steffen-Gem.-Schule, Koppeldamm 50, Elmshorn, Koppeldamm 50, 25335 Elmshorn
END:VEVENT
BEGIN:VEVENT
DTSTAMP:20260420T142835
DTSTART;TZID=Europe/Berlin:20260428T153000
DTEND;TZID=Europe/Berlin:20260428T164500
UID:G103 1102-20260428T153000@FBSELMSHORN
SUMMARY:*Wirbelsäulengymnastik am Dienstag Für einen stabilen und beweglichen Rücken (G103 1102) 
LOCATION:Gymnastikhalle Boje-Steffen-Gem.-Schule, Koppeldamm 50, Elmshorn, Koppeldamm 50, 25335 Elmshorn
END:VEVENT
BEGIN:VEVENT
DTSTAMP:20260420T142835
DTSTART;TZID=Europe/Berlin:20260505T153000
DTEND;TZID=Europe/Berlin:20260505T164500
UID:G103 1102-20260505T153000@FBSELMSHORN
SUMMARY:*Wirbelsäulengymnastik am Dienstag Für einen stabilen und beweglichen Rücken (G103 1102) 
LOCATION:Gymnastikhalle Boje-Steffen-Gem.-Schule, Koppeldamm 50, Elmshorn, Koppeldamm 50, 25335 Elmshorn
END:VEVENT
BEGIN:VEVENT
DTSTAMP:20260420T142835
DTSTART;TZID=Europe/Berlin:20260512T153000
DTEND;TZID=Europe/Berlin:20260512T164500
UID:G103 1102-20260512T153000@FBSELMSHORN
SUMMARY:*Wirbelsäulengymnastik am Dienstag Für einen stabilen und beweglichen Rücken (G103 1102) 
LOCATION:Gymnastikhalle Boje-Steffen-Gem.-Schule, Koppeldamm 50, Elmshorn, Koppeldamm 50, 25335 Elmshorn
END:VEVENT
BEGIN:VEVENT
DTSTAMP:20260420T142835
DTSTART;TZID=Europe/Berlin:20260519T153000
DTEND;TZID=Europe/Berlin:20260519T164500
UID:G103 1102-20260519T153000@FBSELMSHORN
SUMMARY:*Wirbelsäulengymnastik am Dienstag Für einen stabilen und beweglichen Rücken (G103 1102) 
LOCATION:Gymnastikhalle Boje-Steffen-Gem.-Schule, Koppeldamm 50, Elmshorn, Koppeldamm 50, 25335 Elmshorn
END:VEVENT
BEGIN:VEVENT
DTSTAMP:20260420T142835
DTSTART;TZID=Europe/Berlin:20260526T153000
DTEND;TZID=Europe/Berlin:20260526T164500
UID:G103 1102-20260526T153000@FBSELMSHORN
SUMMARY:*Wirbelsäulengymnastik am Dienstag Für einen stabilen und beweglichen Rücken (G103 1102) 
LOCATION:Gymnastikhalle Boje-Steffen-Gem.-Schule, Koppeldamm 50, Elmshorn, Koppeldamm 50, 25335 Elmshorn
END:VEVENT
END:VCALENDAR