BEGIN:VCALENDAR
VERSION:2.0
PRODID:http://www.kufer.de/kuferweb / DE
METHOD:PUBLISH
CALSCALE:GREGORIAN
X-WR-TIMEZONE:Europe/Berlin
BEGIN:VTIMEZONE
TZID:Europe/Berlin
X-LIC-LOCATION:Europe/Berlin
BEGIN:DAYLIGHT
TZOFFSETFROM:+0100
TZOFFSETTO:+0200
TZNAME:CEST
DTSTART;TZID=Europe/Berlin:19700329T020000
RRULE:FREQ=YEARLY;INTERVAL=1;BYDAY=-1SU;BYMONTH=3
END:DAYLIGHT
BEGIN:STANDARD
TZOFFSETFROM:+0200
TZOFFSETTO:+0100
TZNAME:CET
DTSTART;TZID=Europe/Berlin:19701025T030000
RRULE:FREQ=YEARLY;INTERVAL=1;BYDAY=-1SU;BYMONTH=10
END:STANDARD
END:VTIMEZONE
BEGIN:VEVENT
DTSTAMP:20260421T125038
DTSTART;TZID=Europe/Berlin:20260422T090000
DTEND;TZID=Europe/Berlin:20260422T121500
UID:G138 0101-20260422T090000@FBSELMSHORN
SUMMARY:DELFI  Für Eltern mit Babys ab der 8. Lebenswoche (G138 0101) 
LOCATION:Jugendbildungsstätte, Düsterlohe 5, Barmstedt, Düsterlohe 5, 25355 Barmstedt
END:VEVENT
BEGIN:VEVENT
DTSTAMP:20260421T125038
DTSTART;TZID=Europe/Berlin:20260429T090000
DTEND;TZID=Europe/Berlin:20260429T121500
UID:G138 0101-20260429T090000@FBSELMSHORN
SUMMARY:DELFI  Für Eltern mit Babys ab der 8. Lebenswoche (G138 0101) 
LOCATION:Jugendbildungsstätte, Düsterlohe 5, Barmstedt, Düsterlohe 5, 25355 Barmstedt
END:VEVENT
BEGIN:VEVENT
DTSTAMP:20260421T125038
DTSTART;TZID=Europe/Berlin:20260506T090000
DTEND;TZID=Europe/Berlin:20260506T121500
UID:G138 0101-20260506T090000@FBSELMSHORN
SUMMARY:DELFI  Für Eltern mit Babys ab der 8. Lebenswoche (G138 0101) 
LOCATION:Jugendbildungsstätte, Düsterlohe 5, Barmstedt, Düsterlohe 5, 25355 Barmstedt
END:VEVENT
BEGIN:VEVENT
DTSTAMP:20260421T125038
DTSTART;TZID=Europe/Berlin:20260513T090000
DTEND;TZID=Europe/Berlin:20260513T121500
UID:G138 0101-20260513T090000@FBSELMSHORN
SUMMARY:DELFI  Für Eltern mit Babys ab der 8. Lebenswoche (G138 0101) 
LOCATION:Jugendbildungsstätte, Düsterlohe 5, Barmstedt, Düsterlohe 5, 25355 Barmstedt
END:VEVENT
BEGIN:VEVENT
DTSTAMP:20260421T125038
DTSTART;TZID=Europe/Berlin:20260520T090000
DTEND;TZID=Europe/Berlin:20260520T121500
UID:G138 0101-20260520T090000@FBSELMSHORN
SUMMARY:DELFI  Für Eltern mit Babys ab der 8. Lebenswoche (G138 0101) 
LOCATION:Jugendbildungsstätte, Düsterlohe 5, Barmstedt, Düsterlohe 5, 25355 Barmstedt
END:VEVENT
BEGIN:VEVENT
DTSTAMP:20260421T125038
DTSTART;TZID=Europe/Berlin:20260527T090000
DTEND;TZID=Europe/Berlin:20260527T121500
UID:G138 0101-20260527T090000@FBSELMSHORN
SUMMARY:DELFI  Für Eltern mit Babys ab der 8. Lebenswoche (G138 0101) 
LOCATION:Jugendbildungsstätte, Düsterlohe 5, Barmstedt, Düsterlohe 5, 25355 Barmstedt
END:VEVENT
BEGIN:VEVENT
DTSTAMP:20260421T125038
DTSTART;TZID=Europe/Berlin:20260603T090000
DTEND;TZID=Europe/Berlin:20260603T121500
UID:G138 0101-20260603T090000@FBSELMSHORN
SUMMARY:DELFI  Für Eltern mit Babys ab der 8. Lebenswoche (G138 0101) 
LOCATION:Jugendbildungsstätte, Düsterlohe 5, Barmstedt, Düsterlohe 5, 25355 Barmstedt
END:VEVENT
BEGIN:VEVENT
DTSTAMP:20260421T125038
DTSTART;TZID=Europe/Berlin:20260610T090000
DTEND;TZID=Europe/Berlin:20260610T121500
UID:G138 0101-20260610T090000@FBSELMSHORN
SUMMARY:DELFI  Für Eltern mit Babys ab der 8. Lebenswoche (G138 0101) 
LOCATION:Jugendbildungsstätte, Düsterlohe 5, Barmstedt, Düsterlohe 5, 25355 Barmstedt
END:VEVENT
BEGIN:VEVENT
DTSTAMP:20260421T125038
DTSTART;TZID=Europe/Berlin:20260617T090000
DTEND;TZID=Europe/Berlin:20260617T121500
UID:G138 0101-20260617T090000@FBSELMSHORN
SUMMARY:DELFI  Für Eltern mit Babys ab der 8. Lebenswoche (G138 0101) 
LOCATION:Jugendbildungsstätte, Düsterlohe 5, Barmstedt, Düsterlohe 5, 25355 Barmstedt
END:VEVENT
BEGIN:VEVENT
DTSTAMP:20260421T125038
DTSTART;TZID=Europe/Berlin:20260624T090000
DTEND;TZID=Europe/Berlin:20260624T121500
UID:G138 0101-20260624T090000@FBSELMSHORN
SUMMARY:DELFI  Für Eltern mit Babys ab der 8. Lebenswoche (G138 0101) 
LOCATION:Jugendbildungsstätte, Düsterlohe 5, Barmstedt, Düsterlohe 5, 25355 Barmstedt
END:VEVENT
END:VCALENDAR